BEGIN:VCALENDAR
VERSION:2.0
PRODID:-//Department of Child Support Services - ECPv6.15.14//NONSGML v1.0//EN
CALSCALE:GREGORIAN
METHOD:PUBLISH
X-WR-CALNAME:Department of Child Support Services
X-ORIGINAL-URL:https://childsupport.sbcounty.gov
X-WR-CALDESC:Events for Department of Child Support Services
REFRESH-INTERVAL;VALUE=DURATION:PT1H
X-Robots-Tag:noindex
X-PUBLISHED-TTL:PT1H
BEGIN:VTIMEZONE
TZID:America/Los_Angeles
BEGIN:DAYLIGHT
TZOFFSETFROM:-0800
TZOFFSETTO:-0700
TZNAME:PDT
DTSTART:20230312T100000
END:DAYLIGHT
BEGIN:STANDARD
TZOFFSETFROM:-0700
TZOFFSETTO:-0800
TZNAME:PST
DTSTART:20231105T090000
END:STANDARD
BEGIN:DAYLIGHT
TZOFFSETFROM:-0800
TZOFFSETTO:-0700
TZNAME:PDT
DTSTART:20240310T100000
END:DAYLIGHT
BEGIN:STANDARD
TZOFFSETFROM:-0700
TZOFFSETTO:-0800
TZNAME:PST
DTSTART:20241103T090000
END:STANDARD
BEGIN:DAYLIGHT
TZOFFSETFROM:-0800
TZOFFSETTO:-0700
TZNAME:PDT
DTSTART:20250309T100000
END:DAYLIGHT
BEGIN:STANDARD
TZOFFSETFROM:-0700
TZOFFSETTO:-0800
TZNAME:PST
DTSTART:20251102T090000
END:STANDARD
END:VTIMEZONE
BEGIN:VEVENT
DTSTART;TZID=America/Los_Angeles:20240401T090000
DTEND;TZID=America/Los_Angeles:20240401T113000
DTSTAMP:20260423T192845
CREATED:20240328T224858Z
LAST-MODIFIED:20240329T201307Z
UID:10000556-1711962000-1711971000@childsupport.sbcounty.gov
SUMMARY:Mondays with DCSS - Loma Linda
DESCRIPTION:Join us in our lobby each Monday\, we will have community resource partners there to help you!\n9:00 – 11:30am \n\n San Bernardino Valley College Workforce Development: The CalWORKs Office can assist with educational and employment support to satisfy CalWORKs activity requirements.\nSan Bernardino County Department of Public Health-Ambassador Program: Provide health and safety education and resources\, as a way to promote better health and improve the quality of life for San Bernardino County residents.\n\n  \nVisítenos en nuestro lobby todos los lunes\, ¡tendremos socios de recursos comunitarios allí para ayudarlo! \n9:00 – 11:30am \n\nSan Bernardino Valley College Workforce Development: La oficina de CalWORKs puede ayudar con apoyo educativo y laboral para cumplir con los requisitos de actividad de CalWORKs.\nSan Bernardino County Department of Public Health-Ambassador Program: Brindar educación y recursos sobre salud y seguridad\, como una forma de promover una mejor salud y mejorar la calidad de vida de los residentes del Condado de San Bernardino.\n\n 
URL:https://childsupport.sbcounty.gov/event/mondays-with-dcss-loma-linda-5/
LOCATION:Loma Linda Child Support Office\, 10417 Mountain View Ave\, Loma Linda\, CA\, 92354\, United States
ATTACH;FMTTYPE=image/png:https://childsupport.sbcounty.gov/wp-content/uploads/sites/22/2024/03/1abe19d6-96ee-47e5-b201-04198467de81-e1719443441240.png
END:VEVENT
BEGIN:VEVENT
DTSTART;TZID=America/Los_Angeles:20240401T090000
DTEND;TZID=America/Los_Angeles:20240401T160000
DTSTAMP:20260423T192845
CREATED:20240328T225452Z
LAST-MODIFIED:20240329T201056Z
UID:10000559-1711962000-1711987200@childsupport.sbcounty.gov
SUMMARY:Mondays with DCSS - Victorville
DESCRIPTION:Join us in our lobby each Monday\, we will have community resource partners there to help you!\n9:00 – 11:30am  \n\nVictor Community Support Services: Variety of mental health services for youth and families receiving foster & adoptive aid.\n\n1:30 – 4:00 p.m. \n\nCHIRLA- Coalition for Humane Immigrant Rights: Legal advocacy & other services related to immigration\n\n  \nVisítenos en nuestro lobby todos los lunes\, ¡tendremos socios de recursos comunitarios allí para ayudarlo! \n9:00 -11:30 a.m.  \n\nVictor Community Support Services: Variedad de servicios de salud mental para jóvenes y familias que reciben ayuda de crianza y adopción.\n\n1:30 – 4:00 p.m.  \n\nCHIRLA- Coalition for Humane Immigrant Rights: Asistencia legal\, y otros servicios relacionados con la inmigración
URL:https://childsupport.sbcounty.gov/event/mondays-with-dcss-victorville-6/
LOCATION:Victorville Child Support Office\, 15400 Civic Drive\, Victorville\, CA\, 92392\, United States
ATTACH;FMTTYPE=image/png:https://childsupport.sbcounty.gov/wp-content/uploads/sites/22/2024/03/MDWDCSS_WEB_EVENT_VV.png
END:VEVENT
END:VCALENDAR