BEGIN:VCALENDAR
VERSION:2.0
PRODID:-//Department of Child Support Services - ECPv6.15.14//NONSGML v1.0//EN
CALSCALE:GREGORIAN
METHOD:PUBLISH
X-ORIGINAL-URL:https://childsupport.sbcounty.gov
X-WR-CALDESC:Events for Department of Child Support Services
REFRESH-INTERVAL;VALUE=DURATION:PT1H
X-Robots-Tag:noindex
X-PUBLISHED-TTL:PT1H
BEGIN:VTIMEZONE
TZID:America/Los_Angeles
BEGIN:DAYLIGHT
TZOFFSETFROM:-0800
TZOFFSETTO:-0700
TZNAME:PDT
DTSTART:20230312T100000
END:DAYLIGHT
BEGIN:STANDARD
TZOFFSETFROM:-0700
TZOFFSETTO:-0800
TZNAME:PST
DTSTART:20231105T090000
END:STANDARD
BEGIN:DAYLIGHT
TZOFFSETFROM:-0800
TZOFFSETTO:-0700
TZNAME:PDT
DTSTART:20240310T100000
END:DAYLIGHT
BEGIN:STANDARD
TZOFFSETFROM:-0700
TZOFFSETTO:-0800
TZNAME:PST
DTSTART:20241103T090000
END:STANDARD
BEGIN:DAYLIGHT
TZOFFSETFROM:-0800
TZOFFSETTO:-0700
TZNAME:PDT
DTSTART:20250309T100000
END:DAYLIGHT
BEGIN:STANDARD
TZOFFSETFROM:-0700
TZOFFSETTO:-0800
TZNAME:PST
DTSTART:20251102T090000
END:STANDARD
END:VTIMEZONE
BEGIN:VEVENT
DTSTART;VALUE=DATE:20240619
DTEND;VALUE=DATE:20240620
DTSTAMP:20260423T121805
CREATED:20240617T235940Z
LAST-MODIFIED:20240617T235940Z
UID:10000780-1718755200-1718841599@childsupport.sbcounty.gov
SUMMARY:JUNETEENTH
DESCRIPTION:The Department of Child Support Services offices will be closed on Wednesday\, June 19\, 2024\, in observance of Juneteenth. Offices will resume regular business hours on Thursday\, June 20th at 8am. Should customers need assistance\, they can contact our offices at (866)901-3212 before or after the holiday closure. If additional assistance is needed while offices are closed\, customers have the following options: \nCustomer Connect – Customer Connect is California Child Support’s self-service platform\, allowing customers 24-7 access to case information online. \nSchedule a Virtual Interview – Customers can access the Child Support website to schedule a virtual interview during regular business hours. \nApply for Services – Customers can apply for Child Support Services online 24/7. \n211 – Customers can access 211 to search for additional resources in the community. \n  \nLas oficinas del Departamento de Servicios de Manutención Infantil estarán cerradas el miércoles 19 de junio de 2024. Las oficinas reanudarán el horario comercial habitual el jueves 20 de junio a las 8 a.m. Si los clientes necesitan ayuda\, pueden comunicarse con nuestras oficinas al (866)901-3212 antes o después del cierre festivo. Si se necesita asistencia adicional mientras las oficinas están cerradas\, los clientes tienen las siguientes opciones: \nCustomer Connect: Customer Connect es la plataforma de autoservicio de California Child Support que permite a los clientes acceder las 24 horas\, los 7 días de la semana a la información del caso en línea. \nPrograme una entrevista virtual: los clientes pueden accessar al sitio web de Child Support para programar una entrevista virtual durante el horario comercial habitual. \nSolicite servicios: los clientes pueden solicitar servicios de manutención infantil en línea las 24 horas\, los 7 días de la semana. \n211: los clientes pueden accessar al 211 para buscar recursos adicionales en la comunidad. \n 
URL:https://childsupport.sbcounty.gov/event/juneteenth/
LOCATION:CA
ATTACH;FMTTYPE=image/png:https://childsupport.sbcounty.gov/wp-content/uploads/sites/22/2024/06/MicrosoftTeams-image-44.png
END:VEVENT
END:VCALENDAR