BEGIN:VCALENDAR
VERSION:2.0
PRODID:-//Department of Child Support Services - ECPv6.15.14//NONSGML v1.0//EN
CALSCALE:GREGORIAN
METHOD:PUBLISH
X-ORIGINAL-URL:https://childsupport.sbcounty.gov
X-WR-CALDESC:Events for Department of Child Support Services
REFRESH-INTERVAL;VALUE=DURATION:PT1H
X-Robots-Tag:noindex
X-PUBLISHED-TTL:PT1H
BEGIN:VTIMEZONE
TZID:America/Los_Angeles
BEGIN:DAYLIGHT
TZOFFSETFROM:-0800
TZOFFSETTO:-0700
TZNAME:PDT
DTSTART:20230312T100000
END:DAYLIGHT
BEGIN:STANDARD
TZOFFSETFROM:-0700
TZOFFSETTO:-0800
TZNAME:PST
DTSTART:20231105T090000
END:STANDARD
BEGIN:DAYLIGHT
TZOFFSETFROM:-0800
TZOFFSETTO:-0700
TZNAME:PDT
DTSTART:20240310T100000
END:DAYLIGHT
BEGIN:STANDARD
TZOFFSETFROM:-0700
TZOFFSETTO:-0800
TZNAME:PST
DTSTART:20241103T090000
END:STANDARD
BEGIN:DAYLIGHT
TZOFFSETFROM:-0800
TZOFFSETTO:-0700
TZNAME:PDT
DTSTART:20250309T100000
END:DAYLIGHT
BEGIN:STANDARD
TZOFFSETFROM:-0700
TZOFFSETTO:-0800
TZNAME:PST
DTSTART:20251102T090000
END:STANDARD
END:VTIMEZONE
BEGIN:VEVENT
DTSTART;TZID=America/Los_Angeles:20240921T080000
DTEND;TZID=America/Los_Angeles:20240921T140000
DTSTAMP:20260422T235621
CREATED:20240828T173028Z
LAST-MODIFIED:20240828T173028Z
UID:10000938-1726905600-1726927200@childsupport.sbcounty.gov
SUMMARY:Family and Community Engagement Summit
DESCRIPTION:San Bernardino County Superintendent of Schools is collaborating with California State University San Bernardino Office of Pre-College Programs\, San Bernardino County Children’s Network\, and Inland Empire Fatherhood Involvement Coalition in hosting the Family & Community Engagement Summit. Child Support Services will be at the event; representatives will meet with customers and share information regarding\, opening a case\, case modifications\, and case-specific inquiries. \nSan Bernardino County Superintendent of Schools está colaborando con California State University San Bernardino Office of Pre-College Programs\, San Bernardino County Children’s Network\, y Inland Empire Fatherhood Involvement Coalition para organizar la Cumbre de Participación Familiar y Comunitaria. Child Support Services estarán presentes en el evento; los representantes se reunirán  con los clientes y compartirán información sobare la apertura de un caso\, las modificaciones de casos y las consultas específicas de casos.
URL:https://childsupport.sbcounty.gov/event/family-and-community-engagement-summit/
LOCATION:CA
ATTACH;FMTTYPE=image/png:https://childsupport.sbcounty.gov/wp-content/uploads/sites/22/2024/08/CSUSB-Family-Community-Summit-9-21-24_DCSS_EVENT-POST_OUTREACH_AT-OTHERS-EVENTS-1-13.png
END:VEVENT
END:VCALENDAR