BEGIN:VCALENDAR
VERSION:2.0
PRODID:-//Department of Child Support Services - ECPv6.15.14//NONSGML v1.0//EN
CALSCALE:GREGORIAN
METHOD:PUBLISH
X-ORIGINAL-URL:https://childsupport.sbcounty.gov
X-WR-CALDESC:Events for Department of Child Support Services
REFRESH-INTERVAL;VALUE=DURATION:PT1H
X-Robots-Tag:noindex
X-PUBLISHED-TTL:PT1H
BEGIN:VTIMEZONE
TZID:America/Los_Angeles
BEGIN:DAYLIGHT
TZOFFSETFROM:-0800
TZOFFSETTO:-0700
TZNAME:PDT
DTSTART:20240310T100000
END:DAYLIGHT
BEGIN:STANDARD
TZOFFSETFROM:-0700
TZOFFSETTO:-0800
TZNAME:PST
DTSTART:20241103T090000
END:STANDARD
BEGIN:DAYLIGHT
TZOFFSETFROM:-0800
TZOFFSETTO:-0700
TZNAME:PDT
DTSTART:20250309T100000
END:DAYLIGHT
BEGIN:STANDARD
TZOFFSETFROM:-0700
TZOFFSETTO:-0800
TZNAME:PST
DTSTART:20251102T090000
END:STANDARD
BEGIN:DAYLIGHT
TZOFFSETFROM:-0800
TZOFFSETTO:-0700
TZNAME:PDT
DTSTART:20260308T100000
END:DAYLIGHT
BEGIN:STANDARD
TZOFFSETFROM:-0700
TZOFFSETTO:-0800
TZNAME:PST
DTSTART:20261101T090000
END:STANDARD
END:VTIMEZONE
BEGIN:VEVENT
DTSTART;TZID=America/Los_Angeles:20250927T080000
DTEND;TZID=America/Los_Angeles:20250927T140000
DTSTAMP:20260421T074710
CREATED:20250903T211119Z
LAST-MODIFIED:20250903T215454Z
UID:10001653-1758960000-1758981600@childsupport.sbcounty.gov
SUMMARY:University of Redlands 9th Annual Family & Community Engagement Resource Fair
DESCRIPTION:The San Bernardino County Superintendent of Schools\, in partnership with the University of Redlands\, the San Bernardino County Children’s Network\, and the Inland Empire Fatherhood Involvement Coalition\, is hosting the 9th Annual Family & Community Engagement Summit\, featuring keynote speakers and breakout sessions. \n​​Child support representatives will be at the event to engage with the community. They will be available to answer questions about the child support process\, assist parents with enrolling in child support services\, provide information on case modifications\, and support case-specific needs. \n  \nEl Superintendente de Escuelas del Condado de San Bernardino\, en colaboración con la Universidad de Redlands\, la Red Infantil del Condado de San Bernardino y la Coalición para la Participación de la Paternidad en Inland Empire\, organiza la 9.ª Cumbre Anual de Participación Familiar y Comunitaria\, con oradoras destacadas y sesiones paralelas. \nRepresentantes de manutención infantil estarán presentes en el evento para interactuar con la comunidad. Estarán disponibles para responder preguntas sobre el proceso de manutención infantil\, ayudar a los padres a inscribirse en los servicios de manutención infantil\, brindar información sobre modificaciones de casos y brindar apoyo en las necesidades específicas de cada caso.
URL:https://childsupport.sbcounty.gov/event/university-of-redlands-9th-annual-family-community-engagement-resource-fair/
LOCATION:University of Redlands\, 1200 E. Colton Ave\, Redlands\, CA\, 92373\, United States
CATEGORIES:Resource Fair
ATTACH;FMTTYPE=image/png:https://childsupport.sbcounty.gov/wp-content/uploads/sites/22/2025/09/DCSS_EVENT-POST_OUTREACH_AT-OTHERS-EVENTS-10-Evergreen-CountyCal.png
END:VEVENT
END:VCALENDAR