BEGIN:VCALENDAR
VERSION:2.0
PRODID:-//Department of Child Support Services - ECPv6.15.14//NONSGML v1.0//EN
CALSCALE:GREGORIAN
METHOD:PUBLISH
X-WR-CALNAME:Department of Child Support Services
X-ORIGINAL-URL:https://childsupport.sbcounty.gov
X-WR-CALDESC:Events for Department of Child Support Services
REFRESH-INTERVAL;VALUE=DURATION:PT1H
X-Robots-Tag:noindex
X-PUBLISHED-TTL:PT1H
BEGIN:VTIMEZONE
TZID:America/Los_Angeles
BEGIN:DAYLIGHT
TZOFFSETFROM:-0800
TZOFFSETTO:-0700
TZNAME:PDT
DTSTART:20210314T100000
END:DAYLIGHT
BEGIN:STANDARD
TZOFFSETFROM:-0700
TZOFFSETTO:-0800
TZNAME:PST
DTSTART:20211107T090000
END:STANDARD
BEGIN:DAYLIGHT
TZOFFSETFROM:-0800
TZOFFSETTO:-0700
TZNAME:PDT
DTSTART:20220313T100000
END:DAYLIGHT
BEGIN:STANDARD
TZOFFSETFROM:-0700
TZOFFSETTO:-0800
TZNAME:PST
DTSTART:20221106T090000
END:STANDARD
BEGIN:DAYLIGHT
TZOFFSETFROM:-0800
TZOFFSETTO:-0700
TZNAME:PDT
DTSTART:20230312T100000
END:DAYLIGHT
BEGIN:STANDARD
TZOFFSETFROM:-0700
TZOFFSETTO:-0800
TZNAME:PST
DTSTART:20231105T090000
END:STANDARD
BEGIN:DAYLIGHT
TZOFFSETFROM:-0800
TZOFFSETTO:-0700
TZNAME:PDT
DTSTART:20240310T100000
END:DAYLIGHT
BEGIN:STANDARD
TZOFFSETFROM:-0700
TZOFFSETTO:-0800
TZNAME:PST
DTSTART:20241103T090000
END:STANDARD
BEGIN:DAYLIGHT
TZOFFSETFROM:-0800
TZOFFSETTO:-0700
TZNAME:PDT
DTSTART:20250309T100000
END:DAYLIGHT
BEGIN:STANDARD
TZOFFSETFROM:-0700
TZOFFSETTO:-0800
TZNAME:PST
DTSTART:20251102T090000
END:STANDARD
END:VTIMEZONE
BEGIN:VEVENT
DTSTART;TZID=America/Los_Angeles:20240226T090000
DTEND;TZID=America/Los_Angeles:20240226T160000
DTSTAMP:20260425T072920
CREATED:20240223T225113Z
LAST-MODIFIED:20240226T180755Z
UID:10000404-1708938000-1708963200@childsupport.sbcounty.gov
SUMMARY:Mondays with DCSS - Ontario
DESCRIPTION:9 – 11:30 a.m. \n\nEl Sol Neighborhood Educational Center (Breaking Barriers): Program provides information on educational opportunities\, professional development\, and health prevention services.\n\n1:30 – 4:00 p.m. \n\nDavid Morgan & Associates: Their program aims at providing school aged children and qualifying customers with free tablets and free internet access for up to five years.
URL:https://childsupport.sbcounty.gov/event/mondays-with-dcss-ontario/
LOCATION:Ontario Child Support Office\, 191 N. Vineyard Ave.\, Ontario\, CA\, 91764\, United States
CATEGORIES:Main Events
ATTACH;FMTTYPE=image/png:https://childsupport.sbcounty.gov/wp-content/uploads/sites/22/2024/02/Feb-Social-Media_Ontario--e1713291200744.png
END:VEVENT
BEGIN:VEVENT
DTSTART;TZID=America/Los_Angeles:20240226T090000
DTEND;TZID=America/Los_Angeles:20240226T160000
DTSTAMP:20260425T072920
CREATED:20240223T224256Z
LAST-MODIFIED:20240319T184010Z
UID:10000410-1708938000-1708963200@childsupport.sbcounty.gov
SUMMARY:Mondays with DCSS - Victorville
DESCRIPTION:9 – 11:30 a.m. \n\nEl Sol Neighborhood Educational Center (Breaking Barriers): Program provides information on educational opportunities\, professional development\, and health prevention services.\n\n1:30 – 4:00 p.m. \n\nEl Sol Neighborhood Educational Center (Medi-Cal Enrollment): Organization that provides information on Medi-Cal enrollment and assists the community at no cost\, by submitting their application online.
URL:https://childsupport.sbcounty.gov/event/mondays-with-dcss-victorville/
LOCATION:15400 Civic Dr\, Victorville\, CA 92392\, 15400 Civic Drive\, Victorville\, CA\, 92392\, United States
CATEGORIES:Main Events
ATTACH;FMTTYPE=image/png:https://childsupport.sbcounty.gov/wp-content/uploads/sites/22/2024/03/Feb-Social-Media_victorville-26th-e1710873500426-min-e1719415542846.png
END:VEVENT
BEGIN:VEVENT
DTSTART;TZID=America/Los_Angeles:20240226T090000
DTEND;TZID=America/Los_Angeles:20240226T160000
DTSTAMP:20260425T072920
CREATED:20240223T223852Z
LAST-MODIFIED:20240226T180648Z
UID:10000416-1708938000-1708963200@childsupport.sbcounty.gov
SUMMARY:Mondays with DCSS - Loma Linda
DESCRIPTION:9 – 11:30 a.m. \n\nDignity Memorial: Provide funeral and burial planning services to the community.\nCHIRLA – Coalition for Humane Immigrant Rights: Nonprofit organization that provides legal assistance\, advocacy\, and educational resources related to immigrants.\n\n1:30 – 4:00 p.m. \n\nEl Sol Neighborhood Educational Center (Medi-Cal Enrollment): Organization that provides information on Medi-Cal enrollment and assists the community at no cost\, by submitting their application online.\nCenter for Employment Training: Provides information about their job training programs\, building marketable skills and resources that promote human development and education.
URL:https://childsupport.sbcounty.gov/event/mondays-with-dcss-loma-linda/
LOCATION:Child Support Services Loma Linda\, 10417 Mountain View Ave\, Loma Linda\, CA\, 92354\, United States
CATEGORIES:Main Events
ATTACH;FMTTYPE=image/png:https://childsupport.sbcounty.gov/wp-content/uploads/sites/22/2024/02/Feb-Social-Media_Loma-Linda-26th-e1713290717313.png
GEO:34.0645141;-117.2423503
X-APPLE-STRUCTURED-LOCATION;VALUE=URI;X-ADDRESS=Child Support Services Loma Linda 10417 Mountain View Ave Loma Linda CA 92354 United States;X-APPLE-RADIUS=500;X-TITLE=10417 Mountain View Ave:geo:-117.2423503,34.0645141
END:VEVENT
BEGIN:VEVENT
DTSTART;TZID=America/Los_Angeles:20240223T090000
DTEND;TZID=America/Los_Angeles:20240223T120000
DTSTAMP:20260425T072920
CREATED:20240222T192102Z
LAST-MODIFIED:20240222T224532Z
UID:10000431-1708678800-1708689600@childsupport.sbcounty.gov
SUMMARY:Redlands Chamber Job Fair
DESCRIPTION:  \nOn Friday\, Feb. 23 from 9 a.m. till 12 p.m.\, Child Support Professionals will be at Redlands Champer job fair to meet with you! \nRedlands Chamber of Commerce will be hosting a Career & Resource Fair. \nAt the event\, we will be sharing opportunities for license release to qualified customers. Additionally\, we will be promoting employment opportunities with the department.
URL:https://childsupport.sbcounty.gov/event/redlands-chamber-job-fair/
LOCATION:1214 Indiana Ct\, Redlands\, CA 92374\, 1214 Indiana Ct\, Redlands\, CA\, 92374\, United States
ATTACH;FMTTYPE=image/jpeg:https://childsupport.sbcounty.gov/wp-content/uploads/sites/22/2024/02/Chamber-Job-Fair-02.jpg
END:VEVENT
BEGIN:VEVENT
DTSTART;TZID=America/Los_Angeles:20230227T090000
DTEND;TZID=America/Los_Angeles:20230227T233000
DTSTAMP:20260425T072920
CREATED:20230208T191125Z
LAST-MODIFIED:20240222T224914Z
UID:10000413-1677488400-1677540600@childsupport.sbcounty.gov
SUMMARY:Mondays at DCSS - Loma Linda
DESCRIPTION:
URL:https://childsupport.sbcounty.gov/event/14653/
LOCATION:Child Support Services Loma Linda\, 10417 Mountain View Ave\, Loma Linda\, CA\, 92354\, United States
CATEGORIES:Main Events
ATTACH;FMTTYPE=image/jpeg:https://childsupport.sbcounty.gov/wp-content/uploads/sites/22/2023/02/DCSS-Mondays-February-2023-LL-scaled.jpg
GEO:34.0645141;-117.2423503
X-APPLE-STRUCTURED-LOCATION;VALUE=URI;X-ADDRESS=Child Support Services Loma Linda 10417 Mountain View Ave Loma Linda CA 92354 United States;X-APPLE-RADIUS=500;X-TITLE=10417 Mountain View Ave:geo:-117.2423503,34.0645141
END:VEVENT
BEGIN:VEVENT
DTSTART;TZID=America/Los_Angeles:20230213T090000
DTEND;TZID=America/Los_Angeles:20230213T160000
DTSTAMP:20260425T072920
CREATED:20230208T190733Z
LAST-MODIFIED:20230208T191413Z
UID:10000374-1676278800-1676304000@childsupport.sbcounty.gov
SUMMARY:Mondays at DCSS - Loma Linda
DESCRIPTION:
URL:https://childsupport.sbcounty.gov/event/mondays-at-dcss-loma-linda/
LOCATION:Child Support Services Loma Linda\, 10417 Mountain View Ave\, Loma Linda\, CA\, 92354\, United States
CATEGORIES:Main Events
GEO:34.0645141;-117.2423503
X-APPLE-STRUCTURED-LOCATION;VALUE=URI;X-ADDRESS=Child Support Services Loma Linda 10417 Mountain View Ave Loma Linda CA 92354 United States;X-APPLE-RADIUS=500;X-TITLE=10417 Mountain View Ave:geo:-117.2423503,34.0645141
END:VEVENT
BEGIN:VEVENT
DTSTART;TZID=America/Los_Angeles:20230213T013000
DTEND;TZID=America/Los_Angeles:20230213T160000
DTSTAMP:20260425T072920
CREATED:20230208T191602Z
LAST-MODIFIED:20230208T201035Z
UID:10000419-1676251800-1676304000@childsupport.sbcounty.gov
SUMMARY:Mondays at DCSS - Victorville
DESCRIPTION:
URL:https://childsupport.sbcounty.gov/event/mondays-at-dcss-victorville/
LOCATION:Victorville Child Support Office\, 15400 Civic Drive\, Victorville\, CA\, 92392\, United States
CATEGORIES:Main Events
END:VEVENT
BEGIN:VEVENT
DTSTART;TZID=America/Los_Angeles:20221128T133000
DTEND;TZID=America/Los_Angeles:20221128T160000
DTSTAMP:20260425T072920
CREATED:20221102T233603Z
LAST-MODIFIED:20221102T233603Z
UID:10000377-1669642200-1669651200@childsupport.sbcounty.gov
SUMMARY:Mondays at DCSS - The PACT & Citiway - Loma Linda
DESCRIPTION:Employment and job placement services.
URL:https://childsupport.sbcounty.gov/event/mondays-at-dcss-the-pact-citiway-loma-linda-2/
LOCATION:Child Support Services Loma Linda\, 10417 Mountain View Ave\, Loma Linda\, CA\, 92354\, United States
CATEGORIES:Main Events
GEO:34.0645141;-117.2423503
X-APPLE-STRUCTURED-LOCATION;VALUE=URI;X-ADDRESS=Child Support Services Loma Linda 10417 Mountain View Ave Loma Linda CA 92354 United States;X-APPLE-RADIUS=500;X-TITLE=10417 Mountain View Ave:geo:-117.2423503,34.0645141
END:VEVENT
BEGIN:VEVENT
DTSTART;TZID=America/Los_Angeles:20221128T133000
DTEND;TZID=America/Los_Angeles:20221128T160000
DTSTAMP:20260425T072920
CREATED:20221102T233446Z
LAST-MODIFIED:20240320T194904Z
UID:10000380-1669642200-1669651200@childsupport.sbcounty.gov
SUMMARY:Mondays at DCSS - San Bernardino Valley College Workforce Development - Loma Linda
DESCRIPTION:Supportive Services for housing\, employment\, and Vocational/Education Assistance. Provides Behavioral Health & Wellness Clinic information for Therapy\, wellness education and Self-care.
URL:https://childsupport.sbcounty.gov/event/mondays-at-dcss-san-bernardino-valley-college-workforce-development-loma-linda/
LOCATION:Child Support Services Loma Linda\, 10417 Mountain View Ave\, Loma Linda\, CA\, 92354\, United States
CATEGORIES:Main Events
GEO:34.0645141;-117.2423503
X-APPLE-STRUCTURED-LOCATION;VALUE=URI;X-ADDRESS=Child Support Services Loma Linda 10417 Mountain View Ave Loma Linda CA 92354 United States;X-APPLE-RADIUS=500;X-TITLE=10417 Mountain View Ave:geo:-117.2423503,34.0645141
END:VEVENT
BEGIN:VEVENT
DTSTART;TZID=America/Los_Angeles:20221128T090000
DTEND;TZID=America/Los_Angeles:20221128T113000
DTSTAMP:20260425T072920
CREATED:20221102T233248Z
LAST-MODIFIED:20221102T233248Z
UID:10000383-1669626000-1669635000@childsupport.sbcounty.gov
SUMMARY:Mondays at DCSS - Department of Public Health - Loma Linda
DESCRIPTION:Provide the community with COVID-19 prevention and awareness information and help answer Covid related questions.
URL:https://childsupport.sbcounty.gov/event/mondays-at-dcss-department-of-public-health-loma-linda/
LOCATION:Child Support Services Loma Linda\, 10417 Mountain View Ave\, Loma Linda\, CA\, 92354\, United States
CATEGORIES:Main Events
GEO:34.0645141;-117.2423503
X-APPLE-STRUCTURED-LOCATION;VALUE=URI;X-ADDRESS=Child Support Services Loma Linda 10417 Mountain View Ave Loma Linda CA 92354 United States;X-APPLE-RADIUS=500;X-TITLE=10417 Mountain View Ave:geo:-117.2423503,34.0645141
END:VEVENT
BEGIN:VEVENT
DTSTART;TZID=America/Los_Angeles:20221128T090000
DTEND;TZID=America/Los_Angeles:20221128T113000
DTSTAMP:20260425T072920
CREATED:20221102T233157Z
LAST-MODIFIED:20221102T233157Z
UID:10000386-1669626000-1669635000@childsupport.sbcounty.gov
SUMMARY:Mondays at DCSS - Department of Public Health - Ontario
DESCRIPTION:Provide the community with COVID-19 prevention and awareness information and help answer Covid related questions.
URL:https://childsupport.sbcounty.gov/event/mondays-at-dcss-department-of-public-health-ontario/
LOCATION:Ontario Child Support Office\, 191 N. Vineyard Ave.\, Ontario\, CA\, 91764\, United States
CATEGORIES:Main Events
END:VEVENT
BEGIN:VEVENT
DTSTART;TZID=America/Los_Angeles:20221128T090000
DTEND;TZID=America/Los_Angeles:20221128T113000
DTSTAMP:20260425T072920
CREATED:20221102T233109Z
LAST-MODIFIED:20221102T233109Z
UID:10000389-1669626000-1669635000@childsupport.sbcounty.gov
SUMMARY:Mondays at DCSS - Olive Crest - Loma Linda
DESCRIPTION:Provides a safe place for children to stay while parents are establising a stable home for children.
URL:https://childsupport.sbcounty.gov/event/mondays-at-dcss-olive-crest-loma-linda/
LOCATION:Child Support Services Loma Linda\, 10417 Mountain View Ave\, Loma Linda\, CA\, 92354\, United States
CATEGORIES:Main Events
GEO:34.0645141;-117.2423503
X-APPLE-STRUCTURED-LOCATION;VALUE=URI;X-ADDRESS=Child Support Services Loma Linda 10417 Mountain View Ave Loma Linda CA 92354 United States;X-APPLE-RADIUS=500;X-TITLE=10417 Mountain View Ave:geo:-117.2423503,34.0645141
END:VEVENT
BEGIN:VEVENT
DTSTART;TZID=America/Los_Angeles:20221121T133000
DTEND;TZID=America/Los_Angeles:20221121T160000
DTSTAMP:20260425T072920
CREATED:20221102T232744Z
LAST-MODIFIED:20221102T232744Z
UID:10000392-1669037400-1669046400@childsupport.sbcounty.gov
SUMMARY:Mondays at DCSS - The PACT + Citiway - Loma Linda
DESCRIPTION:Employment and job placement services.
URL:https://childsupport.sbcounty.gov/event/mondays-at-dcss-the-pact-citiway-loma-linda/
LOCATION:Child Support Services Loma Linda\, 10417 Mountain View Ave\, Loma Linda\, CA\, 92354\, United States
CATEGORIES:Main Events
GEO:34.0645141;-117.2423503
X-APPLE-STRUCTURED-LOCATION;VALUE=URI;X-ADDRESS=Child Support Services Loma Linda 10417 Mountain View Ave Loma Linda CA 92354 United States;X-APPLE-RADIUS=500;X-TITLE=10417 Mountain View Ave:geo:-117.2423503,34.0645141
END:VEVENT
BEGIN:VEVENT
DTSTART;TZID=America/Los_Angeles:20221121T133000
DTEND;TZID=America/Los_Angeles:20221121T160000
DTSTAMP:20260425T072920
CREATED:20221102T232656Z
LAST-MODIFIED:20221102T232656Z
UID:10000395-1669037400-1669046400@childsupport.sbcounty.gov
SUMMARY:Mondays at DCSS - Inland SoCal United Way - Ontario
DESCRIPTION:Provides Resources on more than 40 programs in Financial Stability\, Housing\, Education\, and Health.
URL:https://childsupport.sbcounty.gov/event/mondays-at-dcss-inland-socal-united-way-ontario/
LOCATION:Ontario Child Support Office\, 191 N. Vineyard Ave.\, Ontario\, CA\, 91764\, United States
CATEGORIES:Main Events
END:VEVENT
BEGIN:VEVENT
DTSTART;TZID=America/Los_Angeles:20221121T090000
DTEND;TZID=America/Los_Angeles:20221121T113000
DTSTAMP:20260425T072920
CREATED:20221102T232500Z
LAST-MODIFIED:20221102T232500Z
UID:10000398-1669021200-1669030200@childsupport.sbcounty.gov
SUMMARY:Mondays at DCSS - Dignity Memorial - Ontario
DESCRIPTION:Information on pre-planning funeral\, cremation and cemetery services.
URL:https://childsupport.sbcounty.gov/event/mondays-at-dcss-dignity-memorial-ontario/
LOCATION:Ontario Child Support Office\, 191 N. Vineyard Ave.\, Ontario\, CA\, 91764\, United States
CATEGORIES:Main Events
END:VEVENT
BEGIN:VEVENT
DTSTART;TZID=America/Los_Angeles:20221121T090000
DTEND;TZID=America/Los_Angeles:20221121T113000
DTSTAMP:20260425T072920
CREATED:20221102T225724Z
LAST-MODIFIED:20221102T225724Z
UID:10000344-1669021200-1669030200@childsupport.sbcounty.gov
SUMMARY:Mondays at DCSS - Olive Crest
DESCRIPTION:Provides a safe place for children to stay while parents are establising a stable home for children.
URL:https://childsupport.sbcounty.gov/event/mondays-at-dcss-olive-crest/
LOCATION:Victorville Child Support Office\, 15400 Civic Drive\, Victorville\, CA\, 92392\, United States
CATEGORIES:Main Events
END:VEVENT
BEGIN:VEVENT
DTSTART;TZID=America/Los_Angeles:20221121T090000
DTEND;TZID=America/Los_Angeles:20221121T113000
DTSTAMP:20260425T072920
CREATED:20221102T225614Z
LAST-MODIFIED:20221102T225614Z
UID:10000347-1669021200-1669030200@childsupport.sbcounty.gov
SUMMARY:Mondays at DCSS - Public Health - Ontario
DESCRIPTION:​Provide the community with COVID-19 prevention and awareness information and help answer Covid related questions.
URL:https://childsupport.sbcounty.gov/event/mondays-at-dcss-public-health-ontario-2/
LOCATION:Ontario Child Support Office\, 191 N. Vineyard Ave.\, Ontario\, CA\, 91764\, United States
CATEGORIES:Main Events
END:VEVENT
BEGIN:VEVENT
DTSTART;TZID=America/Los_Angeles:20221121T090000
DTEND;TZID=America/Los_Angeles:20221121T113000
DTSTAMP:20260425T072920
CREATED:20221102T225432Z
LAST-MODIFIED:20240319T172905Z
UID:10000350-1669021200-1669030200@childsupport.sbcounty.gov
SUMMARY:Mondays at DCSS - Citadel Community Care Facilities - Loma Linda
DESCRIPTION:Supportive Services for housing\, employment\, and Vocational/ Education Assistance. Provides Behavioral Health & Wellness Clinic information for Therapy\, wellness education and Self-care.
URL:https://childsupport.sbcounty.gov/event/mondays-at-dcss-citadel-community-care-facilities-loma-linda-3/
LOCATION:Child Support Services Loma Linda\, 10417 Mountain View Ave\, Loma Linda\, CA\, 92354\, United States
CATEGORIES:Main Events
GEO:34.0645141;-117.2423503
X-APPLE-STRUCTURED-LOCATION;VALUE=URI;X-ADDRESS=Child Support Services Loma Linda 10417 Mountain View Ave Loma Linda CA 92354 United States;X-APPLE-RADIUS=500;X-TITLE=10417 Mountain View Ave:geo:-117.2423503,34.0645141
END:VEVENT
BEGIN:VEVENT
DTSTART;TZID=America/Los_Angeles:20221117T090000
DTEND;TZID=America/Los_Angeles:20221117T113000
DTSTAMP:20260425T072920
CREATED:20221102T224857Z
LAST-MODIFIED:20221102T224857Z
UID:10000356-1668675600-1668684600@childsupport.sbcounty.gov
SUMMARY:Southern Inland Region Child Support Collaborative Employer Workshop
DESCRIPTION:​Virtual collaborative employer workshop hosted by San Bernardino\, Riverside\, Imperial and Kern Counties\, providing information to employers on their role in the child support process. The income withholding order process will be explained in depth along with compliance time frames\, employer responsibilities\, remitting payments\, and calculating net disposable income. Live Q&A session following the presentation.
URL:https://childsupport.sbcounty.gov/event/southern-inland-region-child-support-collaborative-employer-workshop/
CATEGORIES:Main Events
END:VEVENT
BEGIN:VEVENT
DTSTART;TZID=America/Los_Angeles:20221114T133000
DTEND;TZID=America/Los_Angeles:20221114T160000
DTSTAMP:20260425T072920
CREATED:20221102T224740Z
LAST-MODIFIED:20221102T224740Z
UID:10000359-1668432600-1668441600@childsupport.sbcounty.gov
SUMMARY:Mondays at DCSS - San Bernardino Valley College - CalWorks Workforce Development & WAIII - Loma Linda
DESCRIPTION:
URL:https://childsupport.sbcounty.gov/event/mondays-at-dcss-san-bernardino-valley-college-calworks-workforce-development-waiii-loma-linda/
LOCATION:Child Support Services Loma Linda\, 10417 Mountain View Ave\, Loma Linda\, CA\, 92354\, United States
CATEGORIES:Main Events
GEO:34.0645141;-117.2423503
X-APPLE-STRUCTURED-LOCATION;VALUE=URI;X-ADDRESS=Child Support Services Loma Linda 10417 Mountain View Ave Loma Linda CA 92354 United States;X-APPLE-RADIUS=500;X-TITLE=10417 Mountain View Ave:geo:-117.2423503,34.0645141
END:VEVENT
BEGIN:VEVENT
DTSTART;TZID=America/Los_Angeles:20221114T090000
DTEND;TZID=America/Los_Angeles:20221114T113000
DTSTAMP:20260425T072920
CREATED:20221102T224503Z
LAST-MODIFIED:20221102T224503Z
UID:10000362-1668416400-1668425400@childsupport.sbcounty.gov
SUMMARY:Mondays at DCSS - Colton Adult School - Loma Linda
DESCRIPTION:Offers adult classes\, ESL classes\, citizenship services\, GED and High School Diploma services.
URL:https://childsupport.sbcounty.gov/event/mondays-at-dcss-colton-adult-school-loma-linda/
LOCATION:Child Support Services Loma Linda\, 10417 Mountain View Ave\, Loma Linda\, CA\, 92354\, United States
CATEGORIES:Main Events
GEO:34.0645141;-117.2423503
X-APPLE-STRUCTURED-LOCATION;VALUE=URI;X-ADDRESS=Child Support Services Loma Linda 10417 Mountain View Ave Loma Linda CA 92354 United States;X-APPLE-RADIUS=500;X-TITLE=10417 Mountain View Ave:geo:-117.2423503,34.0645141
END:VEVENT
BEGIN:VEVENT
DTSTART;TZID=America/Los_Angeles:20221114T090000
DTEND;TZID=America/Los_Angeles:20221114T113000
DTSTAMP:20260425T072920
CREATED:20221102T224301Z
LAST-MODIFIED:20221102T224301Z
UID:10000365-1668416400-1668425400@childsupport.sbcounty.gov
SUMMARY:Mondays at DCSS - Inland SoCal United Way 211 - Victorville
DESCRIPTION:Provides Resources on more than 40 programs in Financial Stability\, Housing\, Education\, and Health.
URL:https://childsupport.sbcounty.gov/event/mondays-at-dcss-inland-socal-united-way-211-victorville/
LOCATION:Victorville Child Support Office\, 15400 Civic Drive\, Victorville\, CA\, 92392\, United States
CATEGORIES:Main Events
END:VEVENT
BEGIN:VEVENT
DTSTART;TZID=America/Los_Angeles:20221114T090000
DTEND;TZID=America/Los_Angeles:20221114T113000
DTSTAMP:20260425T072920
CREATED:20221102T224029Z
LAST-MODIFIED:20221102T224029Z
UID:10000368-1668416400-1668425400@childsupport.sbcounty.gov
SUMMARY:Mondays at DCSS - PESI YouthBuild - Ontario
DESCRIPTION:Provide high school drop outs the opportunity to obtain a high school diploma while earning certification in the construction trade.
URL:https://childsupport.sbcounty.gov/event/mondays-at-dcss-pesi-youthbuild-ontario/
LOCATION:Ontario Child Support Office\, 191 N. Vineyard Ave.\, Ontario\, CA\, 91764\, United States
CATEGORIES:Main Events
END:VEVENT
BEGIN:VEVENT
DTSTART;TZID=America/Los_Angeles:20221114T090000
DTEND;TZID=America/Los_Angeles:20221114T113000
DTSTAMP:20260425T072920
CREATED:20221102T223923Z
LAST-MODIFIED:20240319T172947Z
UID:10000407-1668416400-1668425400@childsupport.sbcounty.gov
SUMMARY:Mondays at DCSS - Citadel Community Care Facilities - Loma Linda
DESCRIPTION:Supportive Services for housing\, employment\, and Vocational/ Education Assistance. Provides Behavioral Health & Wellness Clinic information for Therapy\, wellness education and Self-care.
URL:https://childsupport.sbcounty.gov/event/mondays-at-dcss-citadel-community-care-facilities-loma-linda-2/
LOCATION:Child Support Services Loma Linda\, 10417 Mountain View Ave\, Loma Linda\, CA\, 92354\, United States
CATEGORIES:Main Events
GEO:34.0645141;-117.2423503
X-APPLE-STRUCTURED-LOCATION;VALUE=URI;X-ADDRESS=Child Support Services Loma Linda 10417 Mountain View Ave Loma Linda CA 92354 United States;X-APPLE-RADIUS=500;X-TITLE=10417 Mountain View Ave:geo:-117.2423503,34.0645141
END:VEVENT
BEGIN:VEVENT
DTSTART;TZID=America/Los_Angeles:20221107T090000
DTEND;TZID=America/Los_Angeles:20221107T113000
DTSTAMP:20260425T072920
CREATED:20221102T222856Z
LAST-MODIFIED:20221102T223445Z
UID:10000335-1667811600-1667820600@childsupport.sbcounty.gov
SUMMARY:Mondays at DCSS - Dignity Memorial - Loma Linda
DESCRIPTION:​Informational planning on funeral\, cremation and cemetery services.
URL:https://childsupport.sbcounty.gov/event/mondays-at-dcss-dignity-memorial-loma-linda/
LOCATION:Child Support Services Loma Linda\, 10417 Mountain View Ave\, Loma Linda\, CA\, 92354\, United States
CATEGORIES:Main Events
GEO:34.0645141;-117.2423503
X-APPLE-STRUCTURED-LOCATION;VALUE=URI;X-ADDRESS=Child Support Services Loma Linda 10417 Mountain View Ave Loma Linda CA 92354 United States;X-APPLE-RADIUS=500;X-TITLE=10417 Mountain View Ave:geo:-117.2423503,34.0645141
END:VEVENT
BEGIN:VEVENT
DTSTART;TZID=America/Los_Angeles:20221107T090000
DTEND;TZID=America/Los_Angeles:20221107T113000
DTSTAMP:20260425T072920
CREATED:20221102T222755Z
LAST-MODIFIED:20240319T173002Z
UID:10000332-1667811600-1667820600@childsupport.sbcounty.gov
SUMMARY:Mondays at DCSS - Citadel Community Care Facilities - Loma Linda
DESCRIPTION:​Supportive Services for housing\, employment\, and Vocational/ Education Assistance. Provides Behavioral Health & Wellness Clinic information for Therapy\, wellness education and Self-care.
URL:https://childsupport.sbcounty.gov/event/mondays-at-dcss-citadel-community-care-facilities-loma-linda/
LOCATION:Child Support Services Loma Linda\, 10417 Mountain View Ave\, Loma Linda\, CA\, 92354\, United States
CATEGORIES:Main Events
GEO:34.0645141;-117.2423503
X-APPLE-STRUCTURED-LOCATION;VALUE=URI;X-ADDRESS=Child Support Services Loma Linda 10417 Mountain View Ave Loma Linda CA 92354 United States;X-APPLE-RADIUS=500;X-TITLE=10417 Mountain View Ave:geo:-117.2423503,34.0645141
END:VEVENT
BEGIN:VEVENT
DTSTART;TZID=America/Los_Angeles:20221102T090000
DTEND;TZID=America/Los_Angeles:20221102T113000
DTSTAMP:20260425T072920
CREATED:20221102T223630Z
LAST-MODIFIED:20221102T223630Z
UID:10000338-1667379600-1667388600@childsupport.sbcounty.gov
SUMMARY:Mondays at DCSS - Public Health - Ontario
DESCRIPTION:Provide the community with COVID-19 prevention and awareness information and help answer Covid related questions.
URL:https://childsupport.sbcounty.gov/event/mondays-at-dcss-public-health-ontario/
LOCATION:Ontario Child Support Office\, 191 N. Vineyard Ave.\, Ontario\, CA\, 91764\, United States
CATEGORIES:Main Events
END:VEVENT
BEGIN:VEVENT
DTSTART;TZID=America/Los_Angeles:20221102T080000
DTEND;TZID=America/Los_Angeles:20221102T170000
DTSTAMP:20260425T072920
CREATED:20221102T225139Z
LAST-MODIFIED:20251209T205637Z
UID:10000353-1667376000-1667408400@childsupport.sbcounty.gov
SUMMARY:Community Health Systems Day of Giving
DESCRIPTION:BLM 2022 Day Of Giving
URL:https://childsupport.sbcounty.gov/event/community-health-systems-day-of-giving/
LOCATION:Bloomington Community Health Center\, 18651 Valley Blvd\, Bloomington\, CA\, 92316\, United States
CATEGORIES:Main Events
END:VEVENT
BEGIN:VEVENT
DTSTART;TZID=America/Los_Angeles:20221029T100000
DTEND;TZID=America/Los_Angeles:20221029T130000
DTSTAMP:20260425T072920
CREATED:20221019T235530Z
LAST-MODIFIED:20221019T235830Z
UID:10000329-1667037600-1667048400@childsupport.sbcounty.gov
SUMMARY:DCSS Trunk or Treat 2022
DESCRIPTION:  \nSan Bernardino County Department of Child Support Services (DCSS) will be hosting a Trunk or Treat Resource Fair for parents. This is a fun and interactive event to engage and inform parents of the wide variety of resources DCSS offers in supporting their children. In addition\, several community partners will be in attendance providing information and access to job skills\, health\, childcare\, nutrition\, and more services. Events include children’s activities\, candy\, and costumes. \n  \nThe Fair will be held on Saturday\, Oct. 29 from 10 a.m. – 1 p.m. at the Victorville and Loma Linda locations. \n\nVictorville Office15400 Civic Dr.\, Victorville.\, CA 92392\nLoma Linda Office10417 Mountain View Ave.\, Loma Linda\, CA 92354\n\nDCSS\, county agencies\, and community-based organizations will be providing information about free or \nlow-cost services. \n  \n“We want parents to know we are here to help\,” Child Support Services Director Marie Girulat said.  “This is an opportunity for DCSS to partner with other agencies to share information about how we can help.” \n  \nBy raising awareness about our community services\, DCSS directly supports the Countywide Vision to promote family self-sufficiency and reduce childhood poverty throughout the county. DCSS assists families directly by establishing orders for child and medical support\, establishing parentage\, locating parents\, enforcing support orders\, and collecting and distributing child support payments. \n  \nDCSS also partners with many county agencies and community-based organizations to meet the needs of both parents\, grandparents\, and legal guardians to help remove barriers like unemployment\, underemployment\, license suspension\, domestic violence\, and homelessness.
URL:https://childsupport.sbcounty.gov/event/dcss-trunk-or-treat-2022/
CATEGORIES:Main Events
END:VEVENT
BEGIN:VEVENT
DTSTART;TZID=America/Los_Angeles:20221015T080000
DTEND;TZID=America/Los_Angeles:20221015T170000
DTSTAMP:20260425T072920
CREATED:20201006T201518Z
LAST-MODIFIED:20220609T151705Z
UID:10000314-1665820800-1665853200@childsupport.sbcounty.gov
SUMMARY:Get Ready to Shake Out
DESCRIPTION:ShakeOut is still happening this year! It’s actually a good idea to practice earthquake safety in different situations each year\, and ShakeOut Organizers are here to support you. \nhttps://www.shakeout.org/california/index.html
URL:https://childsupport.sbcounty.gov/event/get-ready-to-shake-out/
CATEGORIES:Main Events
END:VEVENT
END:VCALENDAR