BEGIN:VCALENDAR
VERSION:2.0
PRODID:-//Department of Child Support Services - ECPv6.15.14//NONSGML v1.0//EN
CALSCALE:GREGORIAN
METHOD:PUBLISH
X-ORIGINAL-URL:https://childsupport.sbcounty.gov
X-WR-CALDESC:Events for Department of Child Support Services
REFRESH-INTERVAL;VALUE=DURATION:PT1H
X-Robots-Tag:noindex
X-PUBLISHED-TTL:PT1H
BEGIN:VTIMEZONE
TZID:America/Los_Angeles
BEGIN:DAYLIGHT
TZOFFSETFROM:-0800
TZOFFSETTO:-0700
TZNAME:PDT
DTSTART:20240310T100000
END:DAYLIGHT
BEGIN:STANDARD
TZOFFSETFROM:-0700
TZOFFSETTO:-0800
TZNAME:PST
DTSTART:20241103T090000
END:STANDARD
BEGIN:DAYLIGHT
TZOFFSETFROM:-0800
TZOFFSETTO:-0700
TZNAME:PDT
DTSTART:20250309T100000
END:DAYLIGHT
BEGIN:STANDARD
TZOFFSETFROM:-0700
TZOFFSETTO:-0800
TZNAME:PST
DTSTART:20251102T090000
END:STANDARD
BEGIN:DAYLIGHT
TZOFFSETFROM:-0800
TZOFFSETTO:-0700
TZNAME:PDT
DTSTART:20260308T100000
END:DAYLIGHT
BEGIN:STANDARD
TZOFFSETFROM:-0700
TZOFFSETTO:-0800
TZNAME:PST
DTSTART:20261101T090000
END:STANDARD
END:VTIMEZONE
BEGIN:VEVENT
DTSTART;TZID=America/Los_Angeles:20250402T080000
DTEND;TZID=America/Los_Angeles:20250402T150000
DTSTAMP:20260421T074712
CREATED:20250328T164921Z
LAST-MODIFIED:20250328T174741Z
UID:10001474-1743580800-1743606000@childsupport.sbcounty.gov
SUMMARY:One Legacy and California DMV Resource Fair
DESCRIPTION:One Legacy partners with California Department of Motor Vehicle (DMV) offices to kick-off April’s Donate Life Month.  This event creates opportunities for DMV staff and customers to access local resources to improve their health\, and increase donor registration in San Bernardino County. Child Support Specialists will be there to provide information about the child support process to parents or families and provide one on one assistance to address their child support concerns and questions. \n  \nOne Legacy se asocia con las oficinas del Departamento de Vehículos Motorizados (DMV) de California para dar inicio al Mes de Donar Vida de abril. Este evento crea oportunidades para que el personal y los clientes del DMV accedan a recursos locales para mejorar su salud y aumentar el registro de donantes en el condado de San Bernardino. Los especialistas en manutención infantil estarán allí para brindar información sobre el proceso de manutención infantil a los padres o familias y brindar asistencia personalizada para abordar sus inquietudes y preguntas sobre la manutención infantil.
URL:https://childsupport.sbcounty.gov/event/one-legacy-and-california-dmv-resource-fair/
LOCATION:8026 Hemlock Ave\, Fontana CA 92336\, 8026 Hemlock Ave.\, Fontana\, CA\, 92386
ATTACH;FMTTYPE=image/png:https://childsupport.sbcounty.gov/wp-content/uploads/sites/22/2025/03/DCSS_EVENT-POST_OUTREACH_AT-OTHERS-EVENTS-17-OneLegacy-4-2-25.png
END:VEVENT
BEGIN:VEVENT
DTSTART;TZID=America/Los_Angeles:20250407T120000
DTEND;TZID=America/Los_Angeles:20250407T130000
DTSTAMP:20260421T074712
CREATED:20250404T231756Z
LAST-MODIFIED:20250404T231837Z
UID:10001477-1744027200-1744030800@childsupport.sbcounty.gov
SUMMARY:Now Accepting Applications!
DESCRIPTION:The Department of Child Support Services (DCSS) is recruiting to fill Child Support Specialist Trainee* and Child Support Specialist I* positions. Each year our Child Support Professionals work with thousands of parents in San Bernardino County to help the children in our community receive the monetary support needed to thrive and prosper. Our mission is to partner with parents and the community in delivering reliable child support services\, and each day presents a unique opportunity to make a positive difference in the lives of children. \n WE ARE HIRING FOR THE FOLLOWING TWO CLASSIFICATIONS: \n\n\n\nChild Support Specialist Trainee*\n$21.40 – $28.74 Hourly\n$44\,512.00 – $59\,779.20 Annually \n\n\nChild Support Specialist I*\n$24.49 – $33.66 Hourly\n$50\,939.20 – $70\,012.80 Annually \n\n\nDuties: Child Support Specialists* provide a variety of child support services to help parents meet their mutual obligation in providing financial and medical support for their children. Trainees will learn to assess cases\, establish parentage\, evaluate the financial circumstances of both parents\, and offer solutions for removing barriers to pay child support.\n Promotion: Incumbents in the class of Child Support Specialist Trainee* are eligible for promotion to Child Support Specialist I* upon meeting the minimum qualifications for Child Support Specialist I* and upon receipt of a satisfactory work progress report. Incumbents must be promoted within twelve (12) months of hire or be terminated. \n\n\n\n*Official Job Titles: Child Support Officer Trainee and Child Support Officer I \nFor more detailed information\, refer to the Child Support Officer Trainee and Child Support Officer I job descriptions \nCHILD SUPPORT SPECIALIST* VIRTUAL Q&A SESSION \nThe Department of Child Support Services is hosting a question-and-answer session for prospective applicants for the position of Child Support Specialist Trainee* and Child Support Specialist I*. Join us to learn more! \nJoin us at this event rescheduled for 12:00-1:00PM on Monday\, April 7\, 2025\, by clicking HERE  \nor by copying and pasting the following link in your web browser: \n Teams Link: https://teams.microsoft.com/l/meetup-join/19%3ameeting_ZjNiOWRkNjctMGYxMS00ZDE1LWI0YmYtMzkyYTBlZTBhNzU5%40thread.v2/0?context=%7b%22Tid%22%3a%2231399e53-6a93-49aa-8cae-c929f9d4a91d%22%2c%22Oid%22%3a%22667fa873-2dc1-4ecf-85bc-fc98b1bd9574%22%7d \n Please Click the Following Link or Visit the San Bernardino County Human Resources Career Pages to Learn More & Apply Today! \n San Bernardino County Human Resources – Child Support Specialist Trainee* / Child Support Specialist I*
URL:https://childsupport.sbcounty.gov/event/24028/
LOCATION:CA
ATTACH;FMTTYPE=image/png:https://childsupport.sbcounty.gov/wp-content/uploads/sites/22/2025/04/QSSESSION-4-7@4x.png
END:VEVENT
BEGIN:VEVENT
DTSTART;TZID=America/Los_Angeles:20250407T133000
DTEND;TZID=America/Los_Angeles:20250407T160000
DTSTAMP:20260421T074712
CREATED:20250328T162352Z
LAST-MODIFIED:20250328T162352Z
UID:10001444-1744032600-1744041600@childsupport.sbcounty.gov
SUMMARY:TAD Barstow Office
DESCRIPTION:A child support specialist will be at the Transitional Assistance Office to speak with customers about the child support process and case-specific inquiries. \nUn especialista en manutención infantil estará en la San Bernardino Transitional Assistance Department para hablar con los clientes sobre el proceso de manutención infantil y preguntas específicas del caso.
URL:https://childsupport.sbcounty.gov/event/tad-barstow-office-10/
LOCATION:Barstow TAD\, 1900 E Main St\, Barstow\, CA\, 92311\, United States
CATEGORIES:Main Events,TAD
ATTACH;FMTTYPE=image/png:https://childsupport.sbcounty.gov/wp-content/uploads/sites/22/2025/03/TAD-BARSTOW-Web-April@4x.png
END:VEVENT
BEGIN:VEVENT
DTSTART;TZID=America/Los_Angeles:20250407T133000
DTEND;TZID=America/Los_Angeles:20250407T160000
DTSTAMP:20260421T074712
CREATED:20250328T162428Z
LAST-MODIFIED:20250328T162428Z
UID:10001441-1744032600-1744041600@childsupport.sbcounty.gov
SUMMARY:TAD Fontana Office
DESCRIPTION:A child support specialist will be at the Transitional Assistance Office to speak with customers about the child support process and case-specific inquiries. \nUn especialista en manutención infantil estará en la San Bernardino Transitional Assistance Department para hablar con los clientes sobre el proceso de manutención infantil y preguntas específicas del caso.
URL:https://childsupport.sbcounty.gov/event/tad-fontana-office-10/
LOCATION:Fontana TAD\, 7977 Sierra Ave\, Fontana\, CA\, 92336\, United States
CATEGORIES:Main Events,TAD
ATTACH;FMTTYPE=image/png:https://childsupport.sbcounty.gov/wp-content/uploads/sites/22/2025/03/TAD-FONTANA-Web-April@4x.png
END:VEVENT
BEGIN:VEVENT
DTSTART;TZID=America/Los_Angeles:20250409T110000
DTEND;TZID=America/Los_Angeles:20250409T140000
DTSTAMP:20260421T074712
CREATED:20250328T162555Z
LAST-MODIFIED:20250328T165706Z
UID:10001465-1744196400-1744207200@childsupport.sbcounty.gov
SUMMARY:Joshua Tree Community Resource Fair
DESCRIPTION:On Wednesday\, April 9\, from 11 a.m. to 2 p.m.\, Child Support Professionals will be at The Joshua Tree Community Resource Fair to meet with you! At the event\, we will be sharing information on how to open a case\, modifications\, debt reduction\, and answer case-specific questions. \nThe following community resources are also available to assist: \n\nHEAP – Assistance with utility bills\nVITA – Tax preparation assistance (by appointment or first come\, first served).\nValley Star Behavioral Health – Mental health-enhanced case management.\nMorongo Unified School District – Instructional services\, community presentation\, registration for students.\nRed Cross – Emergency preparedness.\n\nEl miércoles \, 9 de abril\,  11 a. m. a 2 p. m.\, ¡profesionales de manutención infantil estarán en la Feria de recursos comunitarios de Joshua Tree para reunirse con usted! En el evento\, compartiremos información sobre cómo abrir un caso\, modificaciones\, reducción de deuda y responda preguntas específicas de su caso. \nLos siguientes recursos comunitarios también están disponibles para ayudar: \n\nHEAP – Asistencia con gastos de servicios públicos.\nVITA – Asistencia en la preparación de impuestos (con cita previa o por orden de llegada).\nValley Star Behavioral Health – Manejo de casos de salud mental.\nMorongo Unified School District -Servicios de instrucción\, presentación comunitaria\, registro de estudiantes.\nRed Cross – Preparación para emergencias.
URL:https://childsupport.sbcounty.gov/event/joshua-tree-community-resource-fair-9/
LOCATION:Joshua Tree Community Resource Fair\, 6171 Sunburst Ave\, Joshua Tree\, United States
CATEGORIES:Main Events,Resource Fair
ATTACH;FMTTYPE=image/png:https://childsupport.sbcounty.gov/wp-content/uploads/sites/22/2025/03/DCSS_EVENT-POST_OUTREACH_AT-OTHERS-EVENTS-14-Josh-Tree-April.png
END:VEVENT
BEGIN:VEVENT
DTSTART;TZID=America/Los_Angeles:20250412T100000
DTEND;TZID=America/Los_Angeles:20250412T140000
DTSTAMP:20260421T074712
CREATED:20250328T163736Z
LAST-MODIFIED:20250328T165038Z
UID:10001471-1744452000-1744466400@childsupport.sbcounty.gov
SUMMARY:San Bernardino County Unified School District CommUNITY Summit
DESCRIPTION:​San Bernardino County Unified School District will be hosting their CommUNITY Summit an event that will bring together families\, educators\, and community leaders. Child support specialists will be on hand to provide parents or families with information about the child support process and provide personalized assistance to address their child support concerns and questions. \n  \nEl Distrito Escolar Unificado del Condado de San Bernardino organizará su Cumbre CommUNITY\, un evento que reunirá a familias\, educadores y líderes comunitarios. Los especialistas en manutención infantil estarán disponibles para brindarles a los padres o familias información sobre el proceso de manutención infantil y brindar asistencia personalizada para abordar sus inquietudes y preguntas sobre manutención infantil.
URL:https://childsupport.sbcounty.gov/event/san-bernardino-county-unified-school-district-community-summit/
LOCATION:Indian Springs High School\, 650 N Del Rosa Dr.\, San Bernardino\, CA\, 92410
ATTACH;FMTTYPE=image/png:https://childsupport.sbcounty.gov/wp-content/uploads/sites/22/2025/03/DCSS_EVENT-POST_OUTREACH_AT-OTHERS-EVENTS-15-SanB-Unity-Web-4-12-25.png
END:VEVENT
BEGIN:VEVENT
DTSTART;TZID=America/Los_Angeles:20250414T133000
DTEND;TZID=America/Los_Angeles:20250414T160000
DTSTAMP:20260421T074712
CREATED:20250328T162224Z
LAST-MODIFIED:20250328T162224Z
UID:10001450-1744637400-1744646400@childsupport.sbcounty.gov
SUMMARY:TAD Colton Office
DESCRIPTION:A child support specialist will be at the Transitional Assistance Office to speak with customers about the child support process and case specific inquiries. \nUn especialista en manutención infantil estará en la San Bernardino Transitional Assistance Department para hablar con los clientes sobre el proceso de manutención infantil y preguntas específicas del caso.
URL:https://childsupport.sbcounty.gov/event/tad-colton-office-11/
LOCATION:Colton TAD\, 1900 W Calley Blvd\, Colton\, 92324\, United States
CATEGORIES:Main Events,TAD
ATTACH;FMTTYPE=image/png:https://childsupport.sbcounty.gov/wp-content/uploads/sites/22/2025/03/TAD-COLTON-Web-April@4x.png
END:VEVENT
BEGIN:VEVENT
DTSTART;TZID=America/Los_Angeles:20250414T133000
DTEND;TZID=America/Los_Angeles:20250414T160000
DTSTAMP:20260421T074712
CREATED:20250328T162305Z
LAST-MODIFIED:20250328T162305Z
UID:10001447-1744637400-1744646400@childsupport.sbcounty.gov
SUMMARY:TAD Hesperia Office
DESCRIPTION:A child support specialist will be at the Transitional Assistance Office to speak with customers about the child support process and case specific inquiries. \nUn especialista en manutención infantil estará en la San Bernardino Transitional Assistance Department para hablar con los clientes sobre el proceso de manutención infantil y preguntas específicas del caso.
URL:https://childsupport.sbcounty.gov/event/tad-hesperia-office-10/
LOCATION:Hesperia TAD\, 9655 9th Ave\, Hesperia\, 92345\, United States
CATEGORIES:Main Events,TAD
ATTACH;FMTTYPE=image/png:https://childsupport.sbcounty.gov/wp-content/uploads/sites/22/2025/03/TAD-HESPERIA-Web-April@4x.png
END:VEVENT
BEGIN:VEVENT
DTSTART;TZID=America/Los_Angeles:20250417T130000
DTEND;TZID=America/Los_Angeles:20250417T150000
DTSTAMP:20260421T074712
CREATED:20250328T162452Z
LAST-MODIFIED:20250328T162452Z
UID:10001468-1744894800-1744902000@childsupport.sbcounty.gov
SUMMARY:DCSS In Your Neighborhood: Mom and Dad Project
DESCRIPTION:We will be in Big Bear\, CA this Thursday from 1 p.m. – 2 p.m. to answer any child support-related questions\, or help you open a case. We will be at the Mom and Dad project\, located at 41820 Garstin Dr. Big Bear Lake\, CA 92315 in the Bear Valley Community Hospital. \nThe Mom and Dad Project will be providing diapers for qualifying families from 1 p.m. to 3 p.m \nEstaremos en Big Bear\, CA este jueves de 1 p. m. a 2 p. m. para responder cualquier pregunta relacionada con la manutención infantil o ayudarlo a abrir un caso. Estaremos en el proyecto Mamá y Papá\, ubicado en 41820 Garstin Dr. Big Bear Lake\, CA 92315 en Bear Valley Community Hospital. \nEl Proyecto Mamá y Papá proporcionará pañales a las familias que califiquen desde la 1 p.m. a 3 p.m
URL:https://childsupport.sbcounty.gov/event/dcss-in-your-neighborhood-mom-and-dad-project-15/
LOCATION:Mom and Dad Project\, 41820 Garstin Dr.\, Big Bear Lake\, CA\, 92325\, United States
CATEGORIES:Main Events
ATTACH;FMTTYPE=image/png:https://childsupport.sbcounty.gov/wp-content/uploads/sites/22/2025/01/Screen-Shot-2025-01-28-at-9.26.06-AM.png
END:VEVENT
BEGIN:VEVENT
DTSTART;TZID=America/Los_Angeles:20250421T133000
DTEND;TZID=America/Los_Angeles:20250421T160000
DTSTAMP:20260421T074712
CREATED:20250328T162102Z
LAST-MODIFIED:20250328T162102Z
UID:10001459-1745242200-1745251200@childsupport.sbcounty.gov
SUMMARY:TAD Apple Valley Office
DESCRIPTION:A child support specialist will be at the Transitional Assistance Office to speak with customers about the child support process and case specific inquiries. \nUn especialista en manutención infantil estará en la San Bernardino Transitional Assistance Department para hablar con los clientes sobre el proceso de manutención infantil y preguntas específicas del caso.
URL:https://childsupport.sbcounty.gov/event/tad-apple-valley-office-8/
LOCATION:Apple Valley TAD\, 13886 Central Rd\, Apple Valley\, CA\, 92307\, United States
CATEGORIES:Main Events,TAD
ATTACH;FMTTYPE=image/png:https://childsupport.sbcounty.gov/wp-content/uploads/sites/22/2025/03/TAD-APPLE-Web-April@4x.png
END:VEVENT
BEGIN:VEVENT
DTSTART;TZID=America/Los_Angeles:20250421T133000
DTEND;TZID=America/Los_Angeles:20250421T160000
DTSTAMP:20260421T074712
CREATED:20250328T162138Z
LAST-MODIFIED:20250328T162138Z
UID:10001453-1745242200-1745251200@childsupport.sbcounty.gov
SUMMARY:TAD San Bernardino Office
DESCRIPTION:A child support specialist will be at the Transitional Assistance Office to speak with customers about the child support process and case specific inquiries. \nUn especialista en manutención infantil estará en la San Bernardino Transitional Assistance Department para hablar con los clientes sobre el proceso de manutención infantil y preguntas específicas del caso.
URL:https://childsupport.sbcounty.gov/event/tad-san-bernardino-office-9/
LOCATION:San Bernardino TAD\, 265 East 4th St\, San Bernardino\, CA\, 92401\, United States
CATEGORIES:Main Events,TAD
ATTACH;FMTTYPE=image/png:https://childsupport.sbcounty.gov/wp-content/uploads/sites/22/2025/03/TAD-SANB-Web-April@4x.png
END:VEVENT
BEGIN:VEVENT
DTSTART;TZID=America/Los_Angeles:20250428T133000
DTEND;TZID=America/Los_Angeles:20250428T160000
DTSTAMP:20260421T074712
CREATED:20250328T161645Z
LAST-MODIFIED:20250328T161645Z
UID:10001462-1745847000-1745856000@childsupport.sbcounty.gov
SUMMARY:TAD Rialto Office
DESCRIPTION:A child support specialist will be at the Transitional Assistance Office to speak with customers about the child support process and case specific inquiries. \nUn especialista en manutención infantil estará en la San Bernardino Transitional Assistance Department para hablar con los clientes sobre el proceso de manutención infantil y preguntas específicas del caso.
URL:https://childsupport.sbcounty.gov/event/tad-rialto-office-10/
LOCATION:Rialto TAD\, 1175 W Foothill Blv\, Rialto\, 92376\, United States
CATEGORIES:Main Events,TAD
ATTACH;FMTTYPE=image/png:https://childsupport.sbcounty.gov/wp-content/uploads/sites/22/2025/03/TAD-RIALTO-Web-April@4x.png
END:VEVENT
END:VCALENDAR