BEGIN:VCALENDAR
VERSION:2.0
PRODID:-//Department of Child Support Services - ECPv6.15.14//NONSGML v1.0//EN
CALSCALE:GREGORIAN
METHOD:PUBLISH
X-WR-CALNAME:Department of Child Support Services
X-ORIGINAL-URL:https://childsupport.sbcounty.gov
X-WR-CALDESC:Events for Department of Child Support Services
REFRESH-INTERVAL;VALUE=DURATION:PT1H
X-Robots-Tag:noindex
X-PUBLISHED-TTL:PT1H
BEGIN:VTIMEZONE
TZID:America/Los_Angeles
BEGIN:DAYLIGHT
TZOFFSETFROM:-0800
TZOFFSETTO:-0700
TZNAME:PDT
DTSTART:20250309T100000
END:DAYLIGHT
BEGIN:STANDARD
TZOFFSETFROM:-0700
TZOFFSETTO:-0800
TZNAME:PST
DTSTART:20251102T090000
END:STANDARD
BEGIN:DAYLIGHT
TZOFFSETFROM:-0800
TZOFFSETTO:-0700
TZNAME:PDT
DTSTART:20260308T100000
END:DAYLIGHT
BEGIN:STANDARD
TZOFFSETFROM:-0700
TZOFFSETTO:-0800
TZNAME:PST
DTSTART:20261101T090000
END:STANDARD
BEGIN:DAYLIGHT
TZOFFSETFROM:-0800
TZOFFSETTO:-0700
TZNAME:PDT
DTSTART:20270314T100000
END:DAYLIGHT
BEGIN:STANDARD
TZOFFSETFROM:-0700
TZOFFSETTO:-0800
TZNAME:PST
DTSTART:20271107T090000
END:STANDARD
END:VTIMEZONE
BEGIN:VEVENT
DTSTART;TZID=America/Los_Angeles:20260110T090000
DTEND;TZID=America/Los_Angeles:20260110T140000
DTSTAMP:20260424T201720
CREATED:20251211T182205Z
LAST-MODIFIED:20251211T182205Z
UID:10001748-1768035600-1768053600@childsupport.sbcounty.gov
SUMMARY:Join Us for Support Saturday – Extended Service Hours on January 10
DESCRIPTION:Join us at our Loma Linda office on Saturday\, Jan. 10\, 2026\, from 9 a.m. to 2 p.m. Our team will be available to assist you in a welcoming\, convenient environment—no appointment needed. \nAvailable services include: \n\nEnrolling in Child Support\nRequesting a child support order modification\nApplying for debt reduction\nCompleting child support-related forms\nConnecting with community resources\n\nFor new customers\, enrolling in child support can be completed in 20 minutes or less with help from our representatives.
URL:https://childsupport.sbcounty.gov/event/join-us-for-support-saturday-extended-service-hours-on-january-10/
LOCATION:Child Support Services Loma Linda\, 10417 Mountain View Ave\, Loma Linda\, CA\, 92354\, United States
CATEGORIES:Special Event,Support Saturday's
ATTACH;FMTTYPE=image/png:https://childsupport.sbcounty.gov/wp-content/uploads/sites/22/2025/12/CSAM-Event-Email_V3@4x.png
GEO:34.0645141;-117.2423503
X-APPLE-STRUCTURED-LOCATION;VALUE=URI;X-ADDRESS=Child Support Services Loma Linda 10417 Mountain View Ave Loma Linda CA 92354 United States;X-APPLE-RADIUS=500;X-TITLE=10417 Mountain View Ave:geo:-117.2423503,34.0645141
END:VEVENT
BEGIN:VEVENT
DTSTART;TZID=America/Los_Angeles:20260112T133000
DTEND;TZID=America/Los_Angeles:20260112T160000
DTSTAMP:20260424T201720
CREATED:20260105T202848Z
LAST-MODIFIED:20260105T202848Z
UID:10001750-1768224600-1768233600@childsupport.sbcounty.gov
SUMMARY:Child Support Services will be at the Hesperia TAD Office
DESCRIPTION:A child support specialist will be at the Transitional Assistance Office to speak with customers about the child support process and case specific inquiries. \nUn especialista en manutención infantil estará en la San Bernardino Transitional Assistance Department para hablar con los clientes sobre el proceso de manutención infantil y preguntas específicas del caso.
URL:https://childsupport.sbcounty.gov/event/child-support-services-will-be-at-the-hesperia-tad-office-6/
LOCATION:Hesperia TAD\, 9655 9th Ave\, Hesperia\, 92345\, United States
CATEGORIES:Main Events,TAD
ATTACH;FMTTYPE=image/png:https://childsupport.sbcounty.gov/wp-content/uploads/sites/22/2025/05/TAD-ALL-EVERGREEN@4x.png
END:VEVENT
BEGIN:VEVENT
DTSTART;TZID=America/Los_Angeles:20260112T133000
DTEND;TZID=America/Los_Angeles:20260112T160000
DTSTAMP:20260424T201720
CREATED:20260105T202933Z
LAST-MODIFIED:20260105T202933Z
UID:10001756-1768224600-1768233600@childsupport.sbcounty.gov
SUMMARY:Child Support Services will be at the Colton TAD Office
DESCRIPTION:A child support specialist will be at the Transitional Assistance Office to speak with customers about the child support process and case specific inquiries. \nUn especialista en manutención infantil estará en la San Bernardino Transitional Assistance Department para hablar con los clientes sobre el proceso de manutención infantil y preguntas específicas del caso.
URL:https://childsupport.sbcounty.gov/event/child-support-services-will-be-at-the-colton-tad-office-6/
LOCATION:Colton TAD\, 1900 W Calley Blvd\, Colton\, 92324\, United States
CATEGORIES:Main Events,TAD
ATTACH;FMTTYPE=image/png:https://childsupport.sbcounty.gov/wp-content/uploads/sites/22/2025/05/TAD-ALL-EVERGREEN@4x.png
END:VEVENT
BEGIN:VEVENT
DTSTART;TZID=America/Los_Angeles:20260126T133000
DTEND;TZID=America/Los_Angeles:20260126T160000
DTSTAMP:20260424T201720
CREATED:20260105T202912Z
LAST-MODIFIED:20260105T202912Z
UID:10001753-1769434200-1769443200@childsupport.sbcounty.gov
SUMMARY:Child Support Services will be at the Rialto TAD Office
DESCRIPTION:A child support specialist will be at the Transitional Assistance Office to speak with customers about the child support process and case specific inquiries. \nUn especialista en manutención infantil estará en la San Bernardino Transitional Assistance Department para hablar con los clientes sobre el proceso de manutención infantil y preguntas específicas del caso.
URL:https://childsupport.sbcounty.gov/event/child-support-services-will-be-at-the-rialto-tad-office-8/
LOCATION:Rialto TAD\, 1175 W Foothill Blv\, Rialto\, 92376\, United States
CATEGORIES:Main Events,TAD
ATTACH;FMTTYPE=image/png:https://childsupport.sbcounty.gov/wp-content/uploads/sites/22/2025/05/TAD-ALL-EVERGREEN@4x.png
END:VEVENT
END:VCALENDAR