BEGIN:VCALENDAR
VERSION:2.0
PRODID:-//Department of Child Support Services - ECPv6.15.14//NONSGML v1.0//EN
CALSCALE:GREGORIAN
METHOD:PUBLISH
X-WR-CALNAME:Department of Child Support Services
X-ORIGINAL-URL:https://childsupport.sbcounty.gov
X-WR-CALDESC:Events for Department of Child Support Services
REFRESH-INTERVAL;VALUE=DURATION:PT1H
X-Robots-Tag:noindex
X-PUBLISHED-TTL:PT1H
BEGIN:VTIMEZONE
TZID:America/Los_Angeles
BEGIN:DAYLIGHT
TZOFFSETFROM:-0800
TZOFFSETTO:-0700
TZNAME:PDT
DTSTART:20230312T100000
END:DAYLIGHT
BEGIN:STANDARD
TZOFFSETFROM:-0700
TZOFFSETTO:-0800
TZNAME:PST
DTSTART:20231105T090000
END:STANDARD
BEGIN:DAYLIGHT
TZOFFSETFROM:-0800
TZOFFSETTO:-0700
TZNAME:PDT
DTSTART:20240310T100000
END:DAYLIGHT
BEGIN:STANDARD
TZOFFSETFROM:-0700
TZOFFSETTO:-0800
TZNAME:PST
DTSTART:20241103T090000
END:STANDARD
BEGIN:DAYLIGHT
TZOFFSETFROM:-0800
TZOFFSETTO:-0700
TZNAME:PDT
DTSTART:20250309T100000
END:DAYLIGHT
BEGIN:STANDARD
TZOFFSETFROM:-0700
TZOFFSETTO:-0800
TZNAME:PST
DTSTART:20251102T090000
END:STANDARD
BEGIN:DAYLIGHT
TZOFFSETFROM:-0800
TZOFFSETTO:-0700
TZNAME:PDT
DTSTART:20260308T100000
END:DAYLIGHT
BEGIN:STANDARD
TZOFFSETFROM:-0700
TZOFFSETTO:-0800
TZNAME:PST
DTSTART:20261101T090000
END:STANDARD
END:VTIMEZONE
BEGIN:VEVENT
DTSTART;TZID=America/Los_Angeles:20250113T133000
DTEND;TZID=America/Los_Angeles:20250113T160000
DTSTAMP:20260423T110236
CREATED:20250106T211334Z
LAST-MODIFIED:20250106T211334Z
UID:10001298-1736775000-1736784000@childsupport.sbcounty.gov
SUMMARY:TAD Colton Office
DESCRIPTION:A child support specialist will be at the Transitional Assistance Office to speak with customers about the child support process and case-specific inquiries. \nUn especialista en manutención infantil estará en la San Bernardino Transitional Assistance Department para hablar con los clientes sobre el proceso de manutención infantil y preguntas específicas del caso.
URL:https://childsupport.sbcounty.gov/event/tad-colton-office-8/
LOCATION:Colton TAD\, 1900 W Calley Blvd\, Colton\, 92324\, United States
CATEGORIES:Main Events,TAD
ATTACH;FMTTYPE=image/png:https://childsupport.sbcounty.gov/wp-content/uploads/sites/22/2024/12/Colton_TAD_Web.png
END:VEVENT
BEGIN:VEVENT
DTSTART;TZID=America/Los_Angeles:20241209T133000
DTEND;TZID=America/Los_Angeles:20241209T160000
DTSTAMP:20260423T110236
CREATED:20241121T173450Z
LAST-MODIFIED:20241125T203550Z
UID:10001123-1733751000-1733760000@childsupport.sbcounty.gov
SUMMARY:TAD Colton Office
DESCRIPTION:A child support specialist will be at the Transitional Assistance Office to speak with customers about the child support process and case specific inquiries. \nUn especialista en manutención infantil estará en la San Bernardino Transitional Assistance Department para hablar con los clientes sobre el proceso de manutención infantil y preguntas específicas del caso.
URL:https://childsupport.sbcounty.gov/event/tad-colton-office-7/
LOCATION:Colton TAD\, 1900 W Calley Blvd\, Colton\, 92324\, United States
CATEGORIES:Main Events,TAD
ATTACH;FMTTYPE=image/png:https://childsupport.sbcounty.gov/wp-content/uploads/sites/22/2024/11/COLTON_TAD-2.png
END:VEVENT
BEGIN:VEVENT
DTSTART;TZID=America/Los_Angeles:20241112T133000
DTEND;TZID=America/Los_Angeles:20241112T160000
DTSTAMP:20260423T110236
CREATED:20241030T202712Z
LAST-MODIFIED:20241030T202712Z
UID:10001104-1731418200-1731427200@childsupport.sbcounty.gov
SUMMARY:TAD Colton Office
DESCRIPTION:A child support specialist will be at the Transitional Assistance Office to speak with customers about the child support process and case specific inquiries. \nUn especialista en manutención infantil estará en la San Bernardino Transitional Assistance Department para hablar con los clientes sobre el proceso de manutención infantil y preguntas específicas del caso.
URL:https://childsupport.sbcounty.gov/event/tad-colton-office-6/
LOCATION:Colton TAD\, 1900 W Calley Blvd\, Colton\, 92324\, United States
CATEGORIES:Main Events,TAD
ATTACH;FMTTYPE=image/png:https://childsupport.sbcounty.gov/wp-content/uploads/sites/22/2024/10/COLTON_TAD.png
END:VEVENT
BEGIN:VEVENT
DTSTART;TZID=America/Los_Angeles:20241015T133000
DTEND;TZID=America/Los_Angeles:20241015T160000
DTSTAMP:20260423T110236
CREATED:20240926T233653Z
LAST-MODIFIED:20240926T233653Z
UID:10001024-1728999000-1729008000@childsupport.sbcounty.gov
SUMMARY:TAD Colton Office
DESCRIPTION:A child support specialist will be at the Transitional Assistance Office to speak with customers about the child support process and case specific inquiries. \nUn especialista en manutención infantil estará en la San Bernardino Transitional Assistance Department para hablar con los clientes sobre el proceso de manutención infantil y preguntas específicas del caso.
URL:https://childsupport.sbcounty.gov/event/tad-colton-office-5/
LOCATION:Colton TAD\, 1900 W Calley Blvd\, Colton\, 92324\, United States
CATEGORIES:Main Events,TAD
ATTACH;FMTTYPE=image/png:https://childsupport.sbcounty.gov/wp-content/uploads/sites/22/2024/09/TAD_COLTON.png
END:VEVENT
BEGIN:VEVENT
DTSTART;TZID=America/Los_Angeles:20240916T133000
DTEND;TZID=America/Los_Angeles:20240916T160000
DTSTAMP:20260423T110236
CREATED:20240828T173111Z
LAST-MODIFIED:20240828T173111Z
UID:10000991-1726493400-1726502400@childsupport.sbcounty.gov
SUMMARY:TAD Colton Office
DESCRIPTION:A child support specialist will be at the Transitional Assistance Office to speak with customers about the child support process and case specific inquiries. \nUn especialista en manutención infantil estará en la San Bernardino Transitional Assistance Department para hablar con los clientes sobre el proceso de manutención infantil y preguntas específicas del caso.
URL:https://childsupport.sbcounty.gov/event/tad-colton-office-4/
LOCATION:Colton TAD\, 1900 W Calley Blvd\, Colton\, 92324\, United States
CATEGORIES:Main Events,TAD
ATTACH;FMTTYPE=image/png:https://childsupport.sbcounty.gov/wp-content/uploads/sites/22/2024/08/Colton_TAD_DCSS_EVENT-POST_OUTREACH_AT-OTHERS-EVENTS-12-3.png
END:VEVENT
BEGIN:VEVENT
DTSTART;TZID=America/Los_Angeles:20240813T090000
DTEND;TZID=America/Los_Angeles:20240813T120000
DTSTAMP:20260423T110236
CREATED:20240730T223256Z
LAST-MODIFIED:20240730T223256Z
UID:10000860-1723539600-1723550400@childsupport.sbcounty.gov
SUMMARY:TAD Colton Office
DESCRIPTION:A child support specialist will be at the Transitional Assistance Office to speak with customers about the child support process and case specific inquiries. \nUn especialista en manutención infantil estará en la San Bernardino Transitional Assistance Department para hablar con los clientes sobre el proceso de manutención infantil y preguntas específicas del caso.
URL:https://childsupport.sbcounty.gov/event/tad-colton-office-3/
LOCATION:Colton TAD\, 1900 W Calley Blvd\, Colton\, 92324\, United States
CATEGORIES:Main Events,TAD
ATTACH;FMTTYPE=image/png:https://childsupport.sbcounty.gov/wp-content/uploads/sites/22/2024/07/COLTON_TAD_AUG.png
END:VEVENT
BEGIN:VEVENT
DTSTART;TZID=America/Los_Angeles:20240709T090000
DTEND;TZID=America/Los_Angeles:20240709T120000
DTSTAMP:20260423T110236
CREATED:20240628T223555Z
LAST-MODIFIED:20240628T223555Z
UID:10000829-1720515600-1720526400@childsupport.sbcounty.gov
SUMMARY:TAD Colton Office
DESCRIPTION:A child support specialist will be at the Transitional Assistance Office to speak with customers about the child support process and case specific inquiries. \nUn especialista en manutención infantil estará en la San Bernardino Transitional Assistance Department para hablar con los clientes sobre el proceso de manutención infantil y preguntas específicas del caso.
URL:https://childsupport.sbcounty.gov/event/tad-colton-office-2/
LOCATION:Colton TAD\, 1900 W Calley Blvd\, Colton\, 92324\, United States
CATEGORIES:Main Events,TAD
ATTACH;FMTTYPE=image/png:https://childsupport.sbcounty.gov/wp-content/uploads/sites/22/2024/06/TAD_COLTON.png
END:VEVENT
BEGIN:VEVENT
DTSTART;TZID=America/Los_Angeles:20240611T090000
DTEND;TZID=America/Los_Angeles:20240611T120000
DTSTAMP:20260423T110236
CREATED:20240606T232817Z
LAST-MODIFIED:20240606T232817Z
UID:10000758-1718096400-1718107200@childsupport.sbcounty.gov
SUMMARY:TAD Colton Office
DESCRIPTION:A child support specialist will be at the Transitional Assistance Office to speak with customers about the child support process and case specific inquiries. \nUn especialista en manutención infantil estará en la San Bernardino Transitional Assistance Department para hablar con los clientes sobre el proceso de manutención infantil y preguntas específicas del caso.
URL:https://childsupport.sbcounty.gov/event/tad-colton-office/
LOCATION:Colton TAD\, 1900 W Calley Blvd\, Colton\, 92324\, United States
CATEGORIES:Main Events,TAD
ATTACH;FMTTYPE=image/png:https://childsupport.sbcounty.gov/wp-content/uploads/sites/22/2024/06/Colton_TAD.png
END:VEVENT
END:VCALENDAR