BEGIN:VCALENDAR
VERSION:2.0
PRODID:-//Department of Child Support Services - ECPv6.15.14//NONSGML v1.0//EN
CALSCALE:GREGORIAN
METHOD:PUBLISH
X-ORIGINAL-URL:https://childsupport.sbcounty.gov
X-WR-CALDESC:Events for Department of Child Support Services
REFRESH-INTERVAL;VALUE=DURATION:PT1H
X-Robots-Tag:noindex
X-PUBLISHED-TTL:PT1H
BEGIN:VTIMEZONE
TZID:America/Los_Angeles
BEGIN:DAYLIGHT
TZOFFSETFROM:-0800
TZOFFSETTO:-0700
TZNAME:PDT
DTSTART:20250309T100000
END:DAYLIGHT
BEGIN:STANDARD
TZOFFSETFROM:-0700
TZOFFSETTO:-0800
TZNAME:PST
DTSTART:20251102T090000
END:STANDARD
BEGIN:DAYLIGHT
TZOFFSETFROM:-0800
TZOFFSETTO:-0700
TZNAME:PDT
DTSTART:20260308T100000
END:DAYLIGHT
BEGIN:STANDARD
TZOFFSETFROM:-0700
TZOFFSETTO:-0800
TZNAME:PST
DTSTART:20261101T090000
END:STANDARD
BEGIN:DAYLIGHT
TZOFFSETFROM:-0800
TZOFFSETTO:-0700
TZNAME:PDT
DTSTART:20270314T100000
END:DAYLIGHT
BEGIN:STANDARD
TZOFFSETFROM:-0700
TZOFFSETTO:-0800
TZNAME:PST
DTSTART:20271107T090000
END:STANDARD
END:VTIMEZONE
BEGIN:VEVENT
DTSTART;TZID=America/Los_Angeles:20260214T090000
DTEND;TZID=America/Los_Angeles:20260214T110000
DTSTAMP:20260425T125232
CREATED:20260113T194457Z
LAST-MODIFIED:20260212T174157Z
UID:10001759-1771059600-1771066800@childsupport.sbcounty.gov
SUMMARY:We will be at the Ontario International Airport 5k at the Runway
DESCRIPTION:Ontario International Airport will host its fourth annual 5K at the Runway on Feb. 14\, 2026. Participants can enjoy a community event\, learn about airport operations\, meet community partners and sample local food trucks. \nThe Department of Child Support Services will also be onsite to engage with attendees. Child support specialists will be available to answer questions about the child support process and provide one-on-one assistance for case-specific needs.
URL:https://childsupport.sbcounty.gov/event/we-will-be-at-the-ontario-international-airport-5k-at-the-runway/
LOCATION:Ontario International Airport-National Guard Hanger\, 2180 E. Avion St.\, Ontario\, 91761\, United States
CATEGORIES:Special Event
ATTACH;FMTTYPE=image/png:https://childsupport.sbcounty.gov/wp-content/uploads/sites/22/2025/09/DCSS_EVENT-POST_OUTREACH_AT-OTHERS-EVENTS-10-Evergreen-CountyCal.png
END:VEVENT
END:VCALENDAR